BEGIN:VCALENDAR
VERSION:2.0
PRODID:-//wp-events-plugin.com//7.2.3.1//EN
TZID:Europe/London
X-WR-TIMEZONE:Europe/London
BEGIN:VEVENT
UID:8@leamingtonhistory.co.uk
DTSTART;TZID=Europe/London:20251124T193000
DTEND;TZID=Europe/London:20251124T210000
DTSTAMP:20251130T152645Z
URL:https://leamingtonhistory.co.uk/events/sheila-woolf-stoneleigh-and-a-s
 urprising-connection-slavery/
SUMMARY:Sheila Woolf: Stoneleigh and a Surprising Connection: Slavery
DESCRIPTION:
CATEGORIES:Monthly History Talks
LOCATION:Oddfellows Hall\, 22 New Street\, Leamington Spa\, Warwickshire\, 
 CV31 1HP\, United Kingdom
GEO:52.286021;-1.528557
X-APPLE-STRUCTURED-LOCATION;VALUE=URI;X-ADDRESS=22 New Street\, Leamington 
 Spa\, Warwickshire\, CV31 1HP\, United Kingdom;X-APPLE-RADIUS=100;X-TITLE=
 Oddfellows Hall:geo:52.286021,-1.528557
END:VEVENT
BEGIN:VTIMEZONE
TZID:Europe/London
X-LIC-LOCATION:Europe/London
BEGIN:STANDARD
DTSTART:20251026T010000
TZOFFSETFROM:+0100
TZOFFSETTO:+0000
TZNAME:GMT
END:STANDARD
END:VTIMEZONE
END:VCALENDAR